BEGIN:VCALENDAR
VERSION:2.0
PRODID:-//RIGHTHERE//CALENDARIZE IT V3.2//EN
BEGIN:VEVENT
UID:712-events@www.summitacademy.com
DTSTART;VALUE=DATE:20200921
DTEND;VALUE=DATE:20200921
SUMMARY:5:00pm Special Zoom Board Meeting
ORGANIZER;CN=Tina Tucker:
LOCATION:North Elementary
END:VEVENT
END:VCALENDAR